Workbook

Sheet Controle de compras
A1: Planilha de controle de compras | SULTS
A2: PLANILHA DE CONTROLE DE COMPRAS
A3: Uma linha por item de pedido, da requisição ao pagamento. Colunas em verde-claro são fórmulas: não digite nelas. As 3 primeiras linhas são exemplos fictícios: apague antes de usar. Ajuste as faixas na aba Alçadas.
A5: REQUISIÇÃO | J5: ITEM | S5: FORNECEDOR E COTAÇÃO | AC5: APROVAÇÃO | AK5: PEDIDO E RECEBIMENTO | AU5: FISCAL E FINANCEIRO | BD5: INDICADORES DA LINHA
A6: Nº da requisição | B6: Unidade solicitante | C6: Centro de custo | D6: Requisitante | E6: Data da requisição | F6: Data necessária | G6: Tipo de compra | H6: Prioridade | I6: Status da requisição | J6: Código interno | K6: Descrição padronizada | L6: Especificação técnica | M6: Unidade de medida | N6: Unidades por embalagem | O6: Qtd. solicitada | P6: Qtd. aprovada | Q6: Categoria de compra | R6: Item de padrão da marca | S6: Fornecedor | T6: CNPJ | U6: Homologado | V6: Nº de cotações | W6: Preço unitário negociado (R$) | X6: Último preço pago (R$) | Y6: Variação contra o último preço | Z6: Condição de pagamento | AA6: Prazo de entrega prometido (dias) | AB6: Frete da linha (R$) | AC6: Valor total da linha (R$) | AD6: Alçada aplicável | AE6: Aprovador | AF6: Data da decisão | AG6: Decisão | AH6: Orçamento disponível no centro de custo (R$) | AI6: Saldo depois da compra (R$) | AJ6: Justificativa de exceção | AK6: Nº do pedido de compra | AL6: Data de emissão do pedido | AM6: Canal de envio | AN6: Confirmação do fornecedor | AO6: Previsão de entrega | AP6: Data real de recebimento | AQ6: Qtd. recebida | AR6: Conferido por | AS6: Divergência de quantidade | AT6: Ocorrência de entrega | AU6: Nº da nota fiscal | AV6: Valor da nota (R$) | AW6: Nota contra o pedido (R$) | AX6: Vencimento | AY6: Forma de pagamento | AZ6: Data de pagamento | BA6: Status do pagamento | BB6: Rateio entre unidades | BC6: Comprovantes (link) | BD6: Lead time (dias) | BE6: Saving da linha (R$) | BF6: Entregue no prazo
A7: 2026-0001 | B7: Unidade Centro | C7: CC-101 | D7: Gerente da unidade | E7: 46266 | F7: 46275 | G7: Reposição | H7: Normal | I7: Aprovada | J7: EMB-020 | K7: Sacola kraft média | L7: 32 x 40 cm, 90 g/m², alça torcida | M7: Caixa | N7: 250 | O7: 8 | P7: 6 | Q7: Embalagem | R7: Sim | S7: Fornecedor A | U7: Sim | V7: 2 | W7: 180 | X7: 195 | Y7: =IF(OR(W7="",X7="",X7=0),"",W7/X7-1) | Z7: 28 dias | AA7: 5 | AB7: 40 | AC7: =IF(OR(P7="",W7=""),"",P7*W7+N(AB7)) | AD7: =IF(AC7="","",LOOKUP(AC7,Alçadas!$A$6:$A$9,Alçadas!$C$6:$C$9)) | AE7: Gerente da unidade | AF7: 46267 | AG7: Aprovada | AH7: 6000 | AI7: =IF(OR(AC7="",AH7=""),"",AH7-AC7) | AK7: PC-5521 | AL7: 46267 | AM7: Sistema | AN7: 46268 | AO7: =IF(OR(AN7="",AA7=""),"",AN7+AA7) | AP7: 46273 | AQ7: 6 | AR7: Líder de estoque | AS7: =IF(OR(AQ7="",P7=""),"",AQ7-P7) | AT7: Sem ocorrência | AU7: 48.112 | AV7: 1120 | AW7: =IF(OR(AV7="",AC7=""),"",AV7-AC7) | AX7: 46296 | AY7: Boleto | BA7: A pagar | BD7: =IF(OR(AP7="",E7=""),"",AP7-E7) | BE7: =IF(OR(P7="",W7="",X7=""),"",(X7-W7)*P7) | BF7: =IF(OR(AP7="",AO7=""),"",IF(AP7<=AO7,"Sim","Não"))
A8: 2026-0002 | B8: Unidade Norte | C8: CC-204 | D8: Supervisor de manutenção | E8: 46268 | F8: 46270 | G8: Manutenção | H8: Emergencial | I8: Aprovada | J8: MAN-310 | K8: Compressor para câmara fria | L8: 1/2 HP, 220 V, gás R-404A | M8: Unidade | N8: 1 | O8: 1 | P8: 1 | Q8: Manutenção | R8: Não | S8: Fornecedor B | U8: Não | V8: 1 | W8: 4300 | X8: 3900 | Y8: =IF(OR(W8="",X8="",X8=0),"",W8/X8-1) | Z8: À vista | AA8: 1 | AB8: 0 | AC8: =IF(OR(P8="",W8=""),"",P8*W8+N(AB8)) | AD8: =IF(AC8="","",LOOKUP(AC8,Alçadas!$A$6:$A$9,Alçadas!$C$6:$C$9)) | AE8: Gerente regional | AF8: 46268 | AG8: Aprovada com ressalva | AH8: 3500 | AI8: =IF(OR(AC8="",AH8=""),"",AH8-AC8) | AJ8: Cotação única e fornecedor não homologado: câmara parada | AK8: PC-5530 | AL8: 46268 | AM8: E-mail | AN8: 46268 | AO8: =IF(OR(AN8="",AA8=""),"",AN8+AA8) | AP8: 46270 | AQ8: 1 | AR8: Supervisor de manutenção | AS8: =IF(OR(AQ8="",P8=""),"",AQ8-P8) | AT8: Atraso | AU8: 9.874 | AV8: 4300 | AW8: =IF(OR(AV8="",AC8=""),"",AV8-AC8) | AX8: 46270 | AY8: Pix | AZ8: 46270 | BA8: Pago | BD8: =IF(OR(AP8="",E8=""),"",AP8-E8) | BE8: =IF(OR(P8="",W8="",X8=""),"",(X8-W8)*P8) | BF8: =IF(OR(AP8="",AO8=""),"",IF(AP8<=AO8,"Sim","Não"))
A9: 2026-0003 | B9: Unidade Sul | C9: CC-315 | D9: Gerente da unidade | E9: 46269 | F9: 46285 | G9: Campanha | H9: Normal | I9: Aguardando aprovação | J9: PDV-118 | K9: Display de balcão da campanha | L9: Acrílico 3 mm, 30 x 20 cm, impressão UV | M9: Unidade | N9: 1 | O9: 12 | P9: 12 | Q9: Material de ponto de venda | R9: Sim | S9: Fornecedor C | U9: Sim | V9: 3 | W9: 38 | X9: 38 | Y9: =IF(OR(W9="",X9="",X9=0),"",W9/X9-1) | Z9: 30 dias | AA9: 7 | AB9: 25 | AC9: =IF(OR(P9="",W9=""),"",P9*W9+N(AB9)) | AD9: =IF(AC9="","",LOOKUP(AC9,Alçadas!$A$6:$A$9,Alçadas!$C$6:$C$9)) | AG9: Pendente | AH9: 2400 | AI9: =IF(OR(AC9="",AH9=""),"",AH9-AC9) | AO9: =IF(OR(AN9="",AA9=""),"",AN9+AA9) | AS9: =IF(OR(AQ9="",P9=""),"",AQ9-P9) | AW9: =IF(OR(AV9="",AC9=""),"",AV9-AC9) | BD9: =IF(OR(AP9="",E9=""),"",AP9-E9) | BE9: =IF(OR(P9="",W9="",X9=""),"",(X9-W9)*P9) | BF9: =IF(OR(AP9="",AO9=""),"",IF(AP9<=AO9,"Sim","Não"))
Y10: =IF(OR(W10="",X10="",X10=0),"",W10/X10-1) | AC10: =IF(OR(P10="",W10=""),"",P10*W10+N(AB10)) | AD10: =IF(AC10="","",LOOKUP(AC10,Alçadas!$A$6:$A$9,Alçadas!$C$6:$C$9)) | AI10: =IF(OR(AC10="",AH10=""),"",AH10-AC10) | AO10: =IF(OR(AN10="",AA10=""),"",AN10+AA10) | AS10: =IF(OR(AQ10="",P10=""),"",AQ10-P10) | AW10: =IF(OR(AV10="",AC10=""),"",AV10-AC10) | BD10: =IF(OR(AP10="",E10=""),"",AP10-E10) | BE10: =IF(OR(P10="",W10="",X10=""),"",(X10-W10)*P10) | BF10: =IF(OR(AP10="",AO10=""),"",IF(AP10<=AO10,"Sim","Não"))
Y11: =IF(OR(W11="",X11="",X11=0),"",W11/X11-1) | AC11: =IF(OR(P11="",W11=""),"",P11*W11+N(AB11)) | AD11: =IF(AC11="","",LOOKUP(AC11,Alçadas!$A$6:$A$9,Alçadas!$C$6:$C$9)) | AI11: =IF(OR(AC11="",AH11=""),"",AH11-AC11) | AO11: =IF(OR(AN11="",AA11=""),"",AN11+AA11) | AS11: =IF(OR(AQ11="",P11=""),"",AQ11-P11) | AW11: =IF(OR(AV11="",AC11=""),"",AV11-AC11) | BD11: =IF(OR(AP11="",E11=""),"",AP11-E11) | BE11: =IF(OR(P11="",W11="",X11=""),"",(X11-W11)*P11) | BF11: =IF(OR(AP11="",AO11=""),"",IF(AP11<=AO11,"Sim","Não"))
Y12: =IF(OR(W12="",X12="",X12=0),"",W12/X12-1) | AC12: =IF(OR(P12="",W12=""),"",P12*W12+N(AB12)) | AD12: =IF(AC12="","",LOOKUP(AC12,Alçadas!$A$6:$A$9,Alçadas!$C$6:$C$9)) | AI12: =IF(OR(AC12="",AH12=""),"",AH12-AC12) | AO12: =IF(OR(AN12="",AA12=""),"",AN12+AA12) | AS12: =IF(OR(AQ12="",P12=""),"",AQ12-P12) | AW12: =IF(OR(AV12="",AC12=""),"",AV12-AC12) | BD12: =IF(OR(AP12="",E12=""),"",AP12-E12) | BE12: =IF(OR(P12="",W12="",X12=""),"",(X12-W12)*P12) | BF12: =IF(OR(AP12="",AO12=""),"",IF(AP12<=AO12,"Sim","Não"))
Y13: =IF(OR(W13="",X13="",X13=0),"",W13/X13-1) | AC13: =IF(OR(P13="",W13=""),"",P13*W13+N(AB13)) | AD13: =IF(AC13="","",LOOKUP(AC13,Alçadas!$A$6:$A$9,Alçadas!$C$6:$C$9)) | AI13: =IF(OR(AC13="",AH13=""),"",AH13-AC13) | AO13: =IF(OR(AN13="",AA13=""),"",AN13+AA13) | AS13: =IF(OR(AQ13="",P13=""),"",AQ13-P13) | AW13: =IF(OR(AV13="",AC13=""),"",AV13-AC13) | BD13: =IF(OR(AP13="",E13=""),"",AP13-E13) | BE13: =IF(OR(P13="",W13="",X13=""),"",(X13-W13)*P13) | BF13: =IF(OR(AP13="",AO13=""),"",IF(AP13<=AO13,"Sim","Não"))
Y14: =IF(OR(W14="",X14="",X14=0),"",W14/X14-1) | AC14: =IF(OR(P14="",W14=""),"",P14*W14+N(AB14)) | AD14: =IF(AC14="","",LOOKUP(AC14,Alçadas!$A$6:$A$9,Alçadas!$C$6:$C$9)) | AI14: =IF(OR(AC14="",AH14=""),"",AH14-AC14) | AO14: =IF(OR(AN14="",AA14=""),"",AN14+AA14) | AS14: =IF(OR(AQ14="",P14=""),"",AQ14-P14) | AW14: =IF(OR(AV14="",AC14=""),"",AV14-AC14) | BD14: =IF(OR(AP14="",E14=""),"",AP14-E14) | BE14: =IF(OR(P14="",W14="",X14=""),"",(X14-W14)*P14) | BF14: =IF(OR(AP14="",AO14=""),"",IF(AP14<=AO14,"Sim","Não"))
Y15: =IF(OR(W15="",X15="",X15=0),"",W15/X15-1) | AC15: =IF(OR(P15="",W15=""),"",P15*W15+N(AB15)) | AD15: =IF(AC15="","",LOOKUP(AC15,Alçadas!$A$6:$A$9,Alçadas!$C$6:$C$9)) | AI15: =IF(OR(AC15="",AH15=""),"",AH15-AC15) | AO15: =IF(OR(AN15="",AA15=""),"",AN15+AA15) | AS15: =IF(OR(AQ15="",P15=""),"",AQ15-P15) | AW15: =IF(OR(AV15="",AC15=""),"",AV15-AC15) | BD15: =IF(OR(AP15="",E15=""),"",AP15-E15) | BE15: =IF(OR(P15="",W15="",X15=""),"",(X15-W15)*P15) | BF15: =IF(OR(AP15="",AO15=""),"",IF(AP15<=AO15,"Sim","Não"))
Y16: =IF(OR(W16="",X16="",X16=0),"",W16/X16-1) | AC16: =IF(OR(P16="",W16=""),"",P16*W16+N(AB16)) | AD16: =IF(AC16="","",LOOKUP(AC16,Alçadas!$A$6:$A$9,Alçadas!$C$6:$C$9)) | AI16: =IF(OR(AC16="",AH16=""),"",AH16-AC16) | AO16: =IF(OR(AN16="",AA16=""),"",AN16+AA16) | AS16: =IF(OR(AQ16="",P16=""),"",AQ16-P16) | AW16: =IF(OR(AV16="",AC16=""),"",AV16-AC16) | BD16: =IF(OR(AP16="",E16=""),"",AP16-E16) | BE16: =IF(OR(P16="",W16="",X16=""),"",(X16-W16)*P16) | BF16: =IF(OR(AP16="",AO16=""),"",IF(AP16<=AO16,"Sim","Não"))
Y17: =IF(OR(W17="",X17="",X17=0),"",W17/X17-1) | AC17: =IF(OR(P17="",W17=""),"",P17*W17+N(AB17)) | AD17: =IF(AC17="","",LOOKUP(AC17,Alçadas!$A$6:$A$9,Alçadas!$C$6:$C$9)) | AI17: =IF(OR(AC17="",AH17=""),"",AH17-AC17) | AO17: =IF(OR(AN17="",AA17=""),"",AN17+AA17) | AS17: =IF(OR(AQ17="",P17=""),"",AQ17-P17) | AW17: =IF(OR(AV17="",AC17=""),"",AV17-AC17) | BD17: =IF(OR(AP17="",E17=""),"",AP17-E17) | BE17: =IF(OR(P17="",W17="",X17=""),"",(X17-W17)*P17) | BF17: =IF(OR(AP17="",AO17=""),"",IF(AP17<=AO17,"Sim","Não"))
Y18: =IF(OR(W18="",X18="",X18=0),"",W18/X18-1) | AC18: =IF(OR(P18="",W18=""),"",P18*W18+N(AB18)) | AD18: =IF(AC18="","",LOOKUP(AC18,Alçadas!$A$6:$A$9,Alçadas!$C$6:$C$9)) | AI18: =IF(OR(AC18="",AH18=""),"",AH18-AC18) | AO18: =IF(OR(AN18="",AA18=""),"",AN18+AA18) | AS18: =IF(OR(AQ18="",P18=""),"",AQ18-P18) | AW18: =IF(OR(AV18="",AC18=""),"",AV18-AC18) | BD18: =IF(OR(AP18="",E18=""),"",AP18-E18) | BE18: =IF(OR(P18="",W18="",X18=""),"",(X18-W18)*P18) | BF18: =IF(OR(AP18="",AO18=""),"",IF(AP18<=AO18,"Sim","Não"))
Y19: =IF(OR(W19="",X19="",X19=0),"",W19/X19-1) | AC19: =IF(OR(P19="",W19=""),"",P19*W19+N(AB19)) | AD19: =IF(AC19="","",LOOKUP(AC19,Alçadas!$A$6:$A$9,Alçadas!$C$6:$C$9)) | AI19: =IF(OR(AC19="",AH19=""),"",AH19-AC19) | AO19: =IF(OR(AN19="",AA19=""),"",AN19+AA19) | AS19: =IF(OR(AQ19="",P19=""),"",AQ19-P19) | AW19: =IF(OR(AV19="",AC19=""),"",AV19-AC19) | BD19: =IF(OR(AP19="",E19=""),"",AP19-E19) | BE19: =IF(OR(P19="",W19="",X19=""),"",(X19-W19)*P19) | BF19: =IF(OR(AP19="",AO19=""),"",IF(AP19<=AO19,"Sim","Não"))
Y20: =IF(OR(W20="",X20="",X20=0),"",W20/X20-1) | AC20: =IF(OR(P20="",W20=""),"",P20*W20+N(AB20)) | AD20: =IF(AC20="","",LOOKUP(AC20,Alçadas!$A$6:$A$9,Alçadas!$C$6:$C$9)) | AI20: =IF(OR(AC20="",AH20=""),"",AH20-AC20) | AO20: =IF(OR(AN20="",AA20=""),"",AN20+AA20) | AS20: =IF(OR(AQ20="",P20=""),"",AQ20-P20) | AW20: =IF(OR(AV20="",AC20=""),"",AV20-AC20) | BD20: =IF(OR(AP20="",E20=""),"",AP20-E20) | BE20: =IF(OR(P20="",W20="",X20=""),"",(X20-W20)*P20) | BF20: =IF(OR(AP20="",AO20=""),"",IF(AP20<=AO20,"Sim","Não"))
Y21: =IF(OR(W21="",X21="",X21=0),"",W21/X21-1) | AC21: =IF(OR(P21="",W21=""),"",P21*W21+N(AB21)) | AD21: =IF(AC21="","",LOOKUP(AC21,Alçadas!$A$6:$A$9,Alçadas!$C$6:$C$9)) | AI21: =IF(OR(AC21="",AH21=""),"",AH21-AC21) | AO21: =IF(OR(AN21="",AA21=""),"",AN21+AA21) | AS21: =IF(OR(AQ21="",P21=""),"",AQ21-P21) | AW21: =IF(OR(AV21="",AC21=""),"",AV21-AC21) | BD21: =IF(OR(AP21="",E21=""),"",AP21-E21) | BE21: =IF(OR(P21="",W21="",X21=""),"",(X21-W21)*P21) | BF21: =IF(OR(AP21="",AO21=""),"",IF(AP21<=AO21,"Sim","Não"))
... Y206: =IF(OR(W206="",X206="",X206=0),"",W206/X206-1) | AC206: =IF(OR(P206="",W206=""),"",P206*W206+N(AB206)) | AD206: =IF(AC206="","",LOOKUP(AC206,Alçadas!$A$6:$A$9,Alçadas!$C$6:$C$9)) | AI206: =IF(OR(AC206="",AH206=""),"",AH206-AC206) | AO206: =IF(OR(AN206="",AA206=""),"",AN206+AA206) | AS206: =IF(OR(AQ206="",P206=""),"",AQ206-P206) | AW206: =IF(OR(AV206="",AC206=""),"",AV206-AC206) | BD206: =IF(OR(AP206="",E206=""),"",AP206-E206) | BE206: =IF(OR(P206="",W206="",X206=""),"",(X206-W206)*P206) | BF206: =IF(OR(AP206="",AO206=""),"",IF(AP206<=AO206,"Sim","Não"))
A208: Modelo gratuito da SULTS: https://www.sults.com.br/produtos/compras/controle-de-compras

Sheet Listas
A1: tipo | B1: prioridade | C1: status_req | D1: categoria | E1: simnao | F1: decisao | G1: ocorrencia | H1: forma | I1: status_pag
A2: Reposição | B2: Normal | C2: Aberta | D2: Insumo | E2: Sim | F2: Pendente | G2: Sem ocorrência | H2: Boleto | I2: A pagar
A3: Campanha | B3: Urgente | C3: Em cotação | D3: Embalagem | E3: Não | F3: Aprovada | G3: Avaria | H3: Transferência | I3: Pago
A4: Manutenção | B4: Emergencial | C4: Aguardando aprovação | D4: Uniforme | F4: Aprovada com ressalva | G4: Falta | H4: Pix | I4: Em atraso
A5: Abertura de unidade | C5: Aprovada | D5: Material de ponto de venda | F5: Recusada | G5: Item errado | H5: Cartão corporativo | I5: Contestado
A6: Emergência | C6: Recusada | D6: Equipamento | G6: Atraso
A7: Investimento | C7: Cancelada | D7: Manutenção | G7: Entrega parcial
D8: Serviço | G8: Devolução

Sheet Alçadas
A1: Planilha de controle de compras | SULTS
A2: MATRIZ DE ALÇADAS DE APROVAÇÃO
A3: Exemplo de estrutura: troque os valores e os cargos pelos da política de compras da sua empresa. A coluna "Alçada aplicável" da aba Controle de compras lê esta tabela pelo valor total da linha. Mantenha os valores iniciais em ordem crescente.
A5: A partir de (R$) | B5: Até (R$) | C5: Quem aprova | D5: Orçamentos exigidos | E5: Casos típicos
A6: 0 | B6: 2000 | C6: Gerente da unidade | D6: 1 orçamento | E6: Reposição do catálogo dentro do orçamento do mês
A7: 2000 | B7: 10000 | C7: Gerente regional | D7: 2 orçamentos | E7: Compra fora do mix ou acima da média da unidade
A8: 10000 | B8: 50000 | C8: Gerente de compras | D8: 3 orçamentos | E8: Contrato novo com fornecedor ou compra para várias unidades
A9: 50000 | B9: sem limite | C9: Diretoria | D9: 3 orçamentos e parecer de compras | E9: Investimento, abertura de unidade e exceções de valor
A11: Exceções que sobem um nível, qualquer que seja o valor
A12: • Fornecedor fora da lista de homologados
A13: • Cotação única quando a política pede mais de uma
A14: • Preço acima do último pago além do limite definido
A15: • Compra que estoura o orçamento do centro de custo

Sheet Indicadores
A1: Planilha de controle de compras | SULTS
A2: INDICADORES DE COMPRAS
A4: Indicador | B4: Valor | C4: Como ler
A5: Total comprado (R$) | B5: =SUM('Controle de compras'!AC7:AC206) | C5: Soma do valor total das linhas.
A6: Saving acumulado (R$) | B6: =SUM('Controle de compras'!BE7:BE206) | C6: Último preço pago menos o negociado, vezes a quantidade aprovada.
A7: Lead time médio da requisição ao recebimento (dias) | B7: =IFERROR(AVERAGE('Controle de compras'!BD7:BD206),"") | C7: Onde a compra trava: aprovação ou entrega.
A8: Entregas no prazo | B8: =IFERROR(COUNTIF('Controle de compras'!BF7:BF206,"Sim")/(COUNTIF('Controle de compras'!BF7:BF206,"Sim")+COUNTIF('Controle de compras'!BF7:BF206,"Não")),"") | C8: Por fornecedor, use o filtro da aba principal.
A9: Requisições emergenciais | B9: =IFERROR(COUNTIF('Controle de compras'!H7:H206,"Emergencial")/COUNTA('Controle de compras'!A7:A206),"") | C9: Quando sobe, o problema está no planejamento ou no catálogo.
A10: Aprovações com justificativa de exceção | B10: =IFERROR(COUNTA('Controle de compras'!AJ7:AJ206)/COUNTA('Controle de compras'!A7:A206),"") | C10: Fornecedor não homologado, cotação única, preço acima do limite ou orçamento estourado.
A11: Linhas aguardando aprovação | B11: =COUNTIF('Controle de compras'!AG7:AG206,"Pendente") | C11: Fila parada na alçada.
A13: Compras por categoria
A14: Insumo | B14: =SUMIF('Controle de compras'!Q7:Q206,A14,'Controle de compras'!AC7:AC206)
A15: Embalagem | B15: =SUMIF('Controle de compras'!Q7:Q206,A15,'Controle de compras'!AC7:AC206)
A16: Uniforme | B16: =SUMIF('Controle de compras'!Q7:Q206,A16,'Controle de compras'!AC7:AC206)
A17: Material de ponto de venda | B17: =SUMIF('Controle de compras'!Q7:Q206,A17,'Controle de compras'!AC7:AC206)
A18: Equipamento | B18: =SUMIF('Controle de compras'!Q7:Q206,A18,'Controle de compras'!AC7:AC206)
A19: Manutenção | B19: =SUMIF('Controle de compras'!Q7:Q206,A19,'Controle de compras'!AC7:AC206)
A20: Serviço | B20: =SUMIF('Controle de compras'!Q7:Q206,A20,'Controle de compras'!AC7:AC206)

Sheet Guia dos campos
A1: Planilha de controle de compras | SULTS
A2: O QUE CADA CAMPO REGISTRA
A4: Grupo | B4: Campo | C4: O que registrar | D4: Tipo
A5: Requisição | B5: Número da requisição | C5: Sequencial e único na empresa, no formato ano e sequência. É a chave que liga a cotação, a aprovação, o pedido, a nota fiscal e o recebimento da mesma compra. | D5: Obrigatório
A6: Requisição | B6: Unidade solicitante e centro de custo | C6: Nome da unidade como consta no cadastro e o centro de custo que absorve a despesa. Sem centro de custo, o financeiro rateia no fim do mês e ninguém confere. | D6: Obrigatório
A7: Requisição | B7: Requisitante | C7: Nome e cargo de quem pediu, com contato direto. É quem responde à dúvida de especificação e quem confirma o recebimento. | D7: Obrigatório
A8: Requisição | B8: Data da requisição e data necessária | C8: Quando foi pedido e para quando precisa estar na unidade. A distância entre as duas é o prazo que compras tem para trabalhar, e requisição com data necessária para ontem entra no indicador de emergência. | D8: Obrigatório
A9: Requisição | B9: Tipo de compra | C9: Reposição, campanha, manutenção, abertura de unidade, emergência ou investimento. O tipo define a alçada, o fornecedor padrão e se a compra concorre com o orçamento do mês. | D9: Obrigatório
A10: Requisição | B10: Prioridade | C10: Normal, urgente ou emergencial, com critério publicado: emergencial é o que para a operação ou fere norma. Urgência sem critério vira o padrão da empresa em poucas semanas.
A11: Requisição | B11: Status da requisição | C11: Aberta, em cotação, aguardando aprovação, aprovada, recusada ou cancelada, com data de cada mudança. É a coluna que a unidade consulta para não ligar para compras. | D11: Fórmula
A12: Item | B12: Código interno e descrição | C12: Código do catálogo da empresa e descrição padronizada, nunca texto livre. Descrição livre gera o mesmo item com cinco nomes e nenhum histórico de preço. | D12: Obrigatório
A13: Item | B13: Especificação técnica | C13: Gramatura, dimensão, cor, composição, voltagem, marca de referência ou equivalente. É o que o fornecedor vai ler, e o que a conferência do recebimento vai comparar. | D13: Obrigatório
A14: Item | B14: Unidade de medida e embalagem | C14: Unidade, caixa, fardo, litro, quilo, e quantas unidades vêm em cada embalagem. Define o múltiplo mínimo do pedido e evita o pedido de 10 unidades de um item que só vem em caixa de 12.
A15: Item | B15: Quantidade solicitada e quantidade aprovada | C15: Duas colunas, porque aprovação pode reduzir. A diferença entre elas, somada por unidade, mostra quem pede mais do que consome. | D15: Obrigatório
A16: Item | B16: Categoria de compra | C16: Insumo, embalagem, uniforme, material de ponto de venda, equipamento, manutenção ou serviço. É o eixo pelo qual a empresa vai saber onde gasta. | D16: Obrigatório
A17: Item | B17: Item de padrão da marca | C17: Sim ou não. Item de padrão (embalagem, uniforme, sacola, material de campanha) só pode vir de fornecedor homologado e entra na verificação de padrão da loja. | D17: Crítico
A18: Fornecedor e cotação | B18: Fornecedor | C18: Razão social, CNPJ, contato comercial e se está homologado, com a validade dos documentos. Fornecedor fora da lista exige justificativa na aprovação. | D18: Obrigatório
A19: Fornecedor e cotação | B19: Cotações | C19: Quantas cotações foram feitas e o mapa comparativo anexado: fornecedor, preço unitário, prazo e validade de cada uma. A política define a partir de que valor são exigidas três. | D19: Anexo
A20: Fornecedor e cotação | B20: Preço unitário negociado | C20: Valor final por unidade de medida, já com desconto e sem frete. É o número que entra no histórico de preço do item. | D20: Obrigatório
A21: Fornecedor e cotação | B21: Último preço pago e variação | C21: Preço da última compra do mesmo item pela empresa e a variação percentual contra ele. Variação acima do limite definido na política pede justificativa na aprovação. | D21: Fórmula
A22: Fornecedor e cotação | B22: Condição de pagamento | C22: À vista, prazo em dias, parcelado, com o desconto ou o acréscimo correspondente. Prazo maior com preço maior precisa aparecer como custo, não como vantagem.
A23: Fornecedor e cotação | B23: Prazo de entrega prometido | C23: Dias corridos ou úteis a partir da confirmação do pedido, como o fornecedor se comprometeu. É a base do indicador de entrega no prazo.
A24: Fornecedor e cotação | B24: Frete | C24: Modalidade (por conta do fornecedor ou do comprador) e valor, rateado por item quando o pedido tem vários. Frete fora da conta é o erro mais comum na comparação de preço entre fornecedores.
A25: Aprovação | B25: Valor total da linha | C25: Quantidade aprovada multiplicada pelo preço negociado, mais o frete rateado. É o valor que define a alçada. | D25: Fórmula
A26: Aprovação | B26: Alçada aplicável | C26: Faixa de valor e quem pode aprovar: gerente da unidade, regional, gerente de compras, diretoria. Publicada na política de compras e aplicada a cada linha, não combinada na conversa. | D26: Fórmula
A27: Aprovação | B27: Aprovador, data e decisão | C27: Nome de quem aprovou ou recusou, quando e o motivo em caso de recusa. O tempo entre requisição e aprovação é o que mais atrasa compra com muitas unidades e costuma ficar invisível. | D27: Obrigatório
A28: Aprovação | B28: Orçamento disponível no centro de custo | C28: Saldo do centro de custo no mês antes e depois desta compra. Compra que estoura o orçamento pode ser aprovada, mas precisa aparecer como exceção. | D28: Fórmula
A29: Aprovação | B29: Justificativa de exceção | C29: Obrigatória quando o fornecedor não é homologado, o preço supera o último pago acima do limite, a cotação foi única ou o orçamento foi ultrapassado. Texto curto, com quem autorizou a exceção.
A30: Aprovação | B30: Status da aprovação | C30: Pendente, aprovada, aprovada com ressalva ou recusada, com data. Alimenta o tempo médio de aprovação por aprovador. | D30: Fórmula
A31: Pedido e recebimento | B31: Número do pedido de compra | C31: Número emitido ao fornecedor depois da aprovação, ligado à requisição. É o número que aparece na nota fiscal e no boleto. | D31: Obrigatório
A32: Pedido e recebimento | B32: Data de emissão e envio ao fornecedor | C32: Quando o pedido foi gerado e por qual canal foi enviado, com o comprovante de envio. Começa o relógio do prazo de entrega. | D32: Obrigatório
A33: Pedido e recebimento | B33: Confirmação do fornecedor | C33: Data em que o fornecedor confirmou o pedido, o prazo e o preço. Pedido sem confirmação em 48 horas é pedido que não vai chegar na data.
A34: Pedido e recebimento | B34: Previsão de entrega | C34: Data calculada a partir da confirmação e do prazo prometido. Serve para a unidade se preparar para receber e para o indicador de atraso. | D34: Fórmula
A35: Pedido e recebimento | B35: Data real de recebimento | C35: Quando o material chegou na unidade, registrada por quem recebeu, com foto do volume quando a política exigir. É o fim do lead time. | D35: Obrigatório
A36: Pedido e recebimento | B36: Quantidade recebida e conferência | C36: Quantidade contada na entrega, nome de quem conferiu e a divergência contra o pedido, em quantidade e em especificação. Divergência sem registro vira prejuízo aceito. | D36: Obrigatório
A37: Pedido e recebimento | B37: Ocorrência de entrega | C37: Avaria, falta, item errado, atraso, entrega parcial ou devolução, com foto e o que foi combinado com o fornecedor. Alimenta a avaliação do fornecedor e a próxima negociação. | D37: Foto
A38: Fiscal e financeiro | B38: Nota fiscal | C38: Número, série, chave de acesso e data de emissão, com o arquivo anexado. Nota sem pedido vinculado não entra no fluxo de pagamento. | D38: Anexo
A39: Fiscal e financeiro | B39: Valor da nota contra o pedido | C39: Diferença entre o valor faturado e o valor aprovado, por linha. Diferença acima da tolerância bloqueia o pagamento até a correção ou a aprovação da exceção. | D39: Fórmula
A40: Fiscal e financeiro | B40: Vencimento e forma de pagamento | C40: Data de vencimento conforme a condição negociada e a forma: boleto, transferência, cartão corporativo. Vencimento diferente do negociado é erro do fornecedor, e a planilha precisa acusar.
A41: Fiscal e financeiro | B41: Data de pagamento e status | C41: Quando foi pago e o status: a pagar, pago, em atraso, contestado. Fecha o ciclo e permite calcular o prazo médio efetivo de pagamento. | D41: Obrigatório
...
